BEGIN:VCALENDAR
VERSION:2.0
PRODID:-//Eckert&#039;s - ECPv5.10.0//NONSGML v1.0//EN
CALSCALE:GREGORIAN
METHOD:PUBLISH
X-WR-CALNAME:Eckert&#039;s
X-ORIGINAL-URL:https://agitated-clarke.165-227-195-229.plesk.page
X-WR-CALDESC:Events for Eckert&#039;s
BEGIN:VTIMEZONE
TZID:America/Kentucky/Louisville
BEGIN:DAYLIGHT
TZOFFSETFROM:-0500
TZOFFSETTO:-0400
TZNAME:EDT
DTSTART:20220313T070000
END:DAYLIGHT
BEGIN:STANDARD
TZOFFSETFROM:-0400
TZOFFSETTO:-0500
TZNAME:EST
DTSTART:20221106T060000
END:STANDARD
END:VTIMEZONE
BEGIN:VEVENT
DTSTART;TZID=America/Kentucky/Louisville:20220729T090000
DTEND;TZID=America/Kentucky/Louisville:20220729T170000
DTSTAMP:20260420T062539
CREATED:20220725T174439Z
LAST-MODIFIED:20220801T175140Z
UID:13581-1659085200-1659114000@agitated-clarke.165-227-195-229.plesk.page
SUMMARY:Farm Flower Experience
DESCRIPTION:Sunshine and summer weather brought us lots of beautiful sunflowers & zinnias! Adventure through our sunflower & zinnia fields for an unforgettable experience filled with imagination\, special moments\, and breathtaking photo opps. \n  \nThe cost of the farm flower experience is $5 plus field access. This includes admission to the sunflower & zinnia fields\, one sunflower to cut and take home OR eight cut-your-own zinnias\, a delicious cookie from our bakery\, and a sticker.
URL:https://agitated-clarke.165-227-195-229.plesk.page/event/sunflower-experience/2022-07-29/
LOCATION:Eckert’s Belleville Farm\, 951 South Green Mount Road\, Belleville\, IL\, 62220\, United States
CATEGORIES:Belleville
ATTACH;FMTTYPE=image/jpeg:https://agitated-clarke.165-227-195-229.plesk.page/app/uploads/2022/07/@maceymarie-4-7-scaled.jpg
END:VEVENT
BEGIN:VEVENT
DTSTART;TZID=America/Kentucky/Louisville:20220729T190000
DTEND;TZID=America/Kentucky/Louisville:20220729T220000
DTSTAMP:20260420T062539
CREATED:20220520T143818Z
LAST-MODIFIED:20230306T190007Z
UID:13038-1659121200-1659132000@agitated-clarke.165-227-195-229.plesk.page
SUMMARY:Live Music: Top GunZ - the 80's Party Rock Tribute
DESCRIPTION:You haven’t had this much fun since the 80’s!\n \nRising from the smoldering ashes…Top GunZ celebrates the glitZ\, the glam\, the guitars\, and the girls or the golden age of hairband and arena rock n’ roll the way it was! Veteran touring musicians bring the 80’s rockin’ hitZ to a new colossal level – Top GunZ!\n\nA limited amount of tickets are available\, so grab yours soon to guarantee your spot. General admission seating. No outside food or drink is allowed.
URL:https://agitated-clarke.165-227-195-229.plesk.page/event/live-music-top-gunz-the-80s-party-rock-tribute/
LOCATION:Eckert’s Belleville Farm\, 951 South Green Mount Road\, Belleville\, IL\, 62220\, United States
CATEGORIES:Belleville,Cider Shed
ATTACH;FMTTYPE=image/jpeg:https://agitated-clarke.165-227-195-229.plesk.page/app/uploads/2022/05/top-Gunz.jpg
END:VEVENT
END:VCALENDAR